BEGIN:VCALENDAR
VERSION:2.0
PRODID:icalendar-ruby
CALSCALE:GREGORIAN
METHOD:PUBLISH
BEGIN:VEVENT
DTSTAMP:20260421T155610Z
UID:12-682617@newnanfamily.tithelysetup5.com
DTSTART:20260530T230000Z
DTEND:20260531T003000Z
CLASS:PUBLIC
CREATED:20260421T070007
DESCRIPTION:
LAST-MODIFIED:20260421T070007
LOCATION:
SUMMARY:FRIDAY BIBLE STUDY
URL;VALUE=URI:https://www.newnanfwc.com/events/friday-bible-study/2026-05-3
 0
ATTACH;FILENAME=BIBLE.png;FMTTYPE=image/png:https://dq5pwpg1q8ru0.cloudfron
 t.net/2024/02/17/22/27/12/816a7421-b71b-4f1b-931f-01fcf8d4abf8/BIBLE.png
END:VEVENT
END:VCALENDAR
